BEGIN:VCALENDAR
VERSION:2.0
PRODID:-//eventon.com NONSGML v1.0//EN
CALSCALE:GREGORIAN
METHOD:PUBLISH
BEGIN:VEVENT
UID:69e625967c5c5
DTSTAMP:20260421T010942
DTSTART:20261112T090000Z
DTEND:20261112T110000Z
TZID:Pacific/Auckland
LOCATION:
SUMMARY:2027 Year 9 Student Orientation morning
DESCRIPTION:\nhttps://www.aggs.school.nz/events/2025-year-9-student-orientation-morning/
URL:https://www.aggs.school.nz/events/2025-year-9-student-orientation-morning/
END:VEVENT
END:VCALENDAR