BEGIN:VCALENDAR
VERSION:2.0
PRODID:-//eventon.com NONSGML v1.0//EN
CALSCALE:GREGORIAN
METHOD:PUBLISH
BEGIN:VEVENT
UID:69e74a9e48196
DTSTAMP:20260421T215958
DTSTART:20250214T090000Z
DTEND:20250214T150000Z
TZID:Pacific/Auckland
LOCATION:
SUMMARY:Athletics Day
DESCRIPTION:\nhttps://www.aggs.school.nz/events/athletics-day/
URL:https://www.aggs.school.nz/events/athletics-day/
END:VEVENT
END:VCALENDAR