BEGIN:VCALENDAR
VERSION:2.0
PRODID:-//eventon.com NONSGML v1.0//EN
CALSCALE:GREGORIAN
METHOD:PUBLISH
BEGIN:VEVENT
UID:69eb6f91ee410
DTSTAMP:20260425T012641
DTSTART:20260831
DTEND:20260905
TZID:Pacific/Auckland
LOCATION:
SUMMARY:Winter Tournament Week
DESCRIPTION:\nhttps://www.aggs.school.nz/events/winter-tournament-week-2/
URL:https://www.aggs.school.nz/events/winter-tournament-week-2/
END:VEVENT
END:VCALENDAR